BEGIN:VCALENDAR
VERSION:2.0
PRODID:-//Confederação Brasileira de Levantamento de Pesos - ECPv4.6.16//NONSGML v1.0//EN
CALSCALE:GREGORIAN
METHOD:PUBLISH
X-WR-CALNAME:Confederação Brasileira de Levantamento de Pesos
X-ORIGINAL-URL:https://www.cblp.org.br
X-WR-CALDESC:Eventos para Confederação Brasileira de Levantamento de Pesos
BEGIN:VEVENT
DTSTART;VALUE=DATE:20200901
DTEND;VALUE=DATE:20201001
DTSTAMP:20260425T140318
CREATED:20200123T172342Z
LAST-MODIFIED:20200811T134200Z
UID:3905-1598918400-1601510399@www.cblp.org.br
SUMMARY:Curso ELEIKO Strength Coach Level 1\, International Edition (Cancelado)
DESCRIPTION:Curso ELEIKO Strength Coach Level 1\, International Edition (Data a definir). \n
URL:https://www.cblp.org.br/evento/curso-eleiko-strength-coach-level-1-international-edition/
LOCATION:São Luís\, Maranhão\, Brasil
END:VEVENT
END:VCALENDAR