BEGIN:VCALENDAR
VERSION:2.0
PRODID:-//Confederação Brasileira de Levantamento de Pesos - ECPv4.6.16//NONSGML v1.0//EN
CALSCALE:GREGORIAN
METHOD:PUBLISH
X-WR-CALNAME:Confederação Brasileira de Levantamento de Pesos
X-ORIGINAL-URL:https://www.cblp.org.br
X-WR-CALDESC:Eventos para Confederação Brasileira de Levantamento de Pesos
BEGIN:VEVENT
DTSTART;VALUE=DATE:20231115
DTEND;VALUE=DATE:20231124
DTSTAMP:20260425T213900
CREATED:20230209T201553Z
LAST-MODIFIED:20230803T165458Z
UID:6058-1700006400-1700783999@www.cblp.org.br
SUMMARY:Campeonato Mundial Sub-20
DESCRIPTION:15 a 23 de novembro – Guadalajara (MEX) \n
URL:https://www.cblp.org.br/evento/campeonato-mundial-sub-20-6/
LOCATION:Mexico
END:VEVENT
END:VCALENDAR