BEGIN:VCALENDAR
VERSION:2.0
PRODID:-//Confederação Brasileira de Levantamento de Pesos - ECPv4.6.16//NONSGML v1.0//EN
CALSCALE:GREGORIAN
METHOD:PUBLISH
X-WR-CALNAME:Confederação Brasileira de Levantamento de Pesos
X-ORIGINAL-URL:https://www.cblp.org.br
X-WR-CALDESC:Eventos para Confederação Brasileira de Levantamento de Pesos
BEGIN:VEVENT
DTSTART;VALUE=DATE:20231201
DTEND;VALUE=DATE:20231218
DTSTAMP:20260426T030215
CREATED:20230209T202707Z
LAST-MODIFIED:20230209T202707Z
UID:6061-1701388800-1702857599@www.cblp.org.br
SUMMARY:2° Grand Prix - Evento classificatório Paris 2024
DESCRIPTION:1 a 17 de dezembro – Doha (QAT) \n
URL:https://www.cblp.org.br/evento/2-grand-prix-evento-classificatorio-paris-2024/
LOCATION:Qatar
END:VEVENT
END:VCALENDAR